BEGIN:VCALENDAR
VERSION:2.0
PRODID:-//LRC//RU
X-WR-CALNAME:25 апреля
X-WR-CALDESC:
X-APPLE-CALENDAR-COLOR:#21A67C
BEGIN:VEVENT
UID:20260425T050000Z-1@LRC
DTSTAMP:20260425T050000Z
DTSTART:20260425T050000Z
DTEND:20260425T050000Z
SUMMARY:Корригирующая гимнастика для стоп (спортзал, 3 этаж, 1 корпус).
END:VEVENT
BEGIN:VEVENT
UID:20260425T060000Z-2@LRC
DTSTAMP:20260425T060000Z
DTSTART:20260425T060000Z
DTEND:20260425T060000Z
SUMMARY:Теоретический инструктаж по фитнесу от Дмитрия Тимофеева (тренажерный зал, 3 этаж, 1 корпус).
END:VEVENT
BEGIN:VEVENT
UID:20260425T090000Z-3@LRC
DTSTAMP:20260425T090000Z
DTSTART:20260425T090000Z
DTEND:20260425T090000Z
SUMMARY:«Интересная затея». Творческий мастер-класс для детей (детский клуб, 1 этаж, 1 корпус).
END:VEVENT
BEGIN:VEVENT
UID:20260425T090000Z-4@LRC
DTSTAMP:20260425T090000Z
DTSTART:20260425T090000Z
DTEND:20260425T090000Z
SUMMARY:«Прогулки по Усадьбе». Обзорная экскурсия-знакомство по парку санатория (встречаемся на 1 этаже корпуса 1).
END:VEVENT
BEGIN:VEVENT
UID:20260425T120000Z-5@LRC
DTSTAMP:20260425T120000Z
DTSTART:20260425T120000Z
DTEND:20260425T120000Z
SUMMARY:«Здоровая спина». Занятие с инструктором (спортзал, 3 этаж, 1 корпус).
END:VEVENT
BEGIN:VEVENT
UID:20260425T120000Z-6@LRC
DTSTAMP:20260425T120000Z
DTSTART:20260425T120000Z
DTEND:20260425T120000Z
SUMMARY:«Just Dance!», интерактивные танцы для взрослых и детей (большой бар, 1 корпус).
END:VEVENT
BEGIN:VEVENT
UID:20260425T130000Z-7@LRC
DTSTAMP:20260425T130000Z
DTSTART:20260425T130000Z
DTEND:20260425T130000Z
SUMMARY:«Арт-терапия: живопись для всех». Мастер-класс для взрослых и детей (арт-студия, 4 этаж, 1 корпус).
END:VEVENT
BEGIN:VEVENT
UID:20260425T143000Z-8@LRC
DTSTAMP:20260425T143000Z
DTSTART:20260425T143000Z
DTEND:20260425T143000Z
SUMMARY:«Йога для начинающих». Занятие с инструктором (уличная площадка возле 1 корпуса).
END:VEVENT
BEGIN:VEVENT
UID:20260425T150000Z-9@LRC
DTSTAMP:20260425T150000Z
DTSTART:20260425T150000Z
DTEND:20260425T150000Z
SUMMARY:&quot;Музыкальный вечер у рояля&quot; (центральный холл, 1 корпус).
END:VEVENT
BEGIN:VEVENT
UID:20260425T170000Z-10@LRC
DTSTAMP:20260425T170000Z
DTSTART:20260425T170000Z
DTEND:20260425T170000Z
SUMMARY:Вечерний кинопоказ: кино для всей семьи (киноконцертный зал, 3 этаж, 1 корпус).
END:VEVENT
BEGIN:VEVENT
UID:20260425T170000Z-11@LRC
DTSTAMP:20260425T170000Z
DTSTART:20260425T170000Z
DTEND:20260425T170000Z
SUMMARY:Ура, волейбол! (спортзал, 3 этаж, 1 корпус).
END:VEVENT
BEGIN:VEVENT
UID:20260425T170000Z-12@LRC
DTSTAMP:20260425T170000Z
DTSTART:20260425T170000Z
DTEND:20260425T170000Z
SUMMARY:Силовая тренировка на все группы мышц (тренажерный зал, 3 этаж, 1 корпус).
END:VEVENT
BEGIN:VEVENT
UID:20260425T173000Z-13@LRC
DTSTAMP:20260425T173000Z
DTSTART:20260425T173000Z
DTEND:20260425T173000Z
SUMMARY:«Песни и танцы». Вечер караоке и дискотека (большой бар, 1 корпус).
END:VEVENT

END:VCALENDAR
